BEGIN:VCALENDAR
VERSION:2.0
PRODID:-//Food Safety Centers of Excellence (CoE) - ECPv6.15.13.1//NONSGML v1.0//EN
CALSCALE:GREGORIAN
METHOD:PUBLISH
X-WR-CALNAME:Food Safety Centers of Excellence (CoE)
X-ORIGINAL-URL:https://foodsafetycoe.org
X-WR-CALDESC:Events for Food Safety Centers of Excellence (CoE)
REFRESH-INTERVAL;VALUE=DURATION:PT1H
X-Robots-Tag:noindex
X-PUBLISHED-TTL:PT1H
BEGIN:VTIMEZONE
TZID:America/New_York
BEGIN:DAYLIGHT
TZOFFSETFROM:-0500
TZOFFSETTO:-0400
TZNAME:EDT
DTSTART:20230312T070000
END:DAYLIGHT
BEGIN:STANDARD
TZOFFSETFROM:-0400
TZOFFSETTO:-0500
TZNAME:EST
DTSTART:20231105T060000
END:STANDARD
BEGIN:DAYLIGHT
TZOFFSETFROM:-0500
TZOFFSETTO:-0400
TZNAME:EDT
DTSTART:20240310T070000
END:DAYLIGHT
BEGIN:STANDARD
TZOFFSETFROM:-0400
TZOFFSETTO:-0500
TZNAME:EST
DTSTART:20241103T060000
END:STANDARD
BEGIN:DAYLIGHT
TZOFFSETFROM:-0500
TZOFFSETTO:-0400
TZNAME:EDT
DTSTART:20250309T070000
END:DAYLIGHT
BEGIN:STANDARD
TZOFFSETFROM:-0400
TZOFFSETTO:-0500
TZNAME:EST
DTSTART:20251102T060000
END:STANDARD
END:VTIMEZONE
BEGIN:VEVENT
DTSTART;TZID=America/New_York:20241016T140000
DTEND;TZID=America/New_York:20241218T150000
DTSTAMP:20260423T144512
CREATED:20241007T203815Z
LAST-MODIFIED:20241007T203815Z
UID:9858-1729087200-1734534000@foodsafetycoe.org
SUMMARY:Food Safety in Correctional Facilities: Challenges and Solutions Webinar Series
DESCRIPTION:Join the Integrated Food Safety Centers of Excellence for a three-part webinar series on food safety in correctional facilities. This series will dive into topics such as unique outbreaks\, high-risk foods\, model food safety practices\, and other food safety challenges specific to correctional settings. Don’t miss the opportunity to hear our expert panel share their insights\, strategies\, and best practices to prepare for and mitigate outbreaks in these environments. \nUnique Outbreaks and Exposures in Correctional Facilities | 10/16/24\, 2-3pm ET\nManaging High-Risk Foods in Correctional Facilities | 11/20/24\, 2-3pm ET\nAddressing Food Safety Challenges in Correctional Facilities | 12/18/24\, 2-3pm ET \nRegister
URL:https://foodsafetycoe.org/event/food-safety-in-correctional-facilities-challenges-and-solutions-webinar-series/
END:VEVENT
END:VCALENDAR