BEGIN:VCALENDAR
VERSION:2.0
PRODID:-//Food Safety Centers of Excellence (CoE) - ECPv6.15.13.1//NONSGML v1.0//EN
CALSCALE:GREGORIAN
METHOD:PUBLISH
X-WR-CALNAME:Food Safety Centers of Excellence (CoE)
X-ORIGINAL-URL:https://foodsafetycoe.org
X-WR-CALDESC:Events for Food Safety Centers of Excellence (CoE)
REFRESH-INTERVAL;VALUE=DURATION:PT1H
X-Robots-Tag:noindex
X-PUBLISHED-TTL:PT1H
BEGIN:VTIMEZONE
TZID:America/New_York
BEGIN:DAYLIGHT
TZOFFSETFROM:-0500
TZOFFSETTO:-0400
TZNAME:EDT
DTSTART:20250309T070000
END:DAYLIGHT
BEGIN:STANDARD
TZOFFSETFROM:-0400
TZOFFSETTO:-0500
TZNAME:EST
DTSTART:20251102T060000
END:STANDARD
BEGIN:DAYLIGHT
TZOFFSETFROM:-0500
TZOFFSETTO:-0400
TZNAME:EDT
DTSTART:20260308T070000
END:DAYLIGHT
BEGIN:STANDARD
TZOFFSETFROM:-0400
TZOFFSETTO:-0500
TZNAME:EST
DTSTART:20261101T060000
END:STANDARD
BEGIN:DAYLIGHT
TZOFFSETFROM:-0500
TZOFFSETTO:-0400
TZNAME:EDT
DTSTART:20270314T070000
END:DAYLIGHT
BEGIN:STANDARD
TZOFFSETFROM:-0400
TZOFFSETTO:-0500
TZNAME:EST
DTSTART:20271107T060000
END:STANDARD
END:VTIMEZONE
BEGIN:VEVENT
DTSTART;TZID=America/New_York:20260317T140000
DTEND;TZID=America/New_York:20260317T150000
DTSTAMP:20260423T132835
CREATED:20260303T145509Z
LAST-MODIFIED:20260303T153434Z
UID:11243-1773756000-1773759600@foodsafetycoe.org
SUMMARY:Artificial Intelligence in Public Health Webinar Series
DESCRIPTION:Join us for a two session webinar series focused on the uses\, regulations\, and future visions of AI in Public Health hosted by the New York Integrated Food Safety Center of Excellence. \nSession 1: \nArtificial Intelligence 101\nTuesday\, March 17th\, 2026 | 2:00 pm to 3:00 pm Eastern Time (US & Canada)\nSpeakers: Luke Qian\, Martin Wiedmann\nRegistration required: https://cornell.zoom.us/meeting/register/vDp-WqbPReO0EjDXtHrbeQ \nThis session will provide a general overview of how Artificial Intelligence systems work\, as well as highlight case examples and considerations before implementing AI tools. It will feature a presentation by Luke Qian (Cornell University) and Martin Wiedmann (Cornell University).\nAfter the presentation\, the speakers will answer questions submitted at the time of registration or during the session. \nIntended audience: Open to anyone in public health with specific focus on food safety.\nCost: Free \nNote: We recommend attending both sessions however this is not required. \nAfter registering\, you will receive a confirmation email with information to join the sessions. You can register for one or both sessions.
URL:https://foodsafetycoe.org/event/artificial-intelligence-in-public-health-webinar-series/
CATEGORIES:Webinar
ATTACH;FMTTYPE=image/png:https://foodsafetycoe.org/wp-content/uploads/Artificial-Intelligence-In-PUblic-Health.png
END:VEVENT
END:VCALENDAR